BEGIN:VCALENDAR
VERSION:2.0
PRODID:-//Fox &amp; Roach/Trident Charities - ECPv6.15.20//NONSGML v1.0//EN
CALSCALE:GREGORIAN
METHOD:PUBLISH
X-WR-CALNAME:Fox &amp; Roach/Trident Charities
X-ORIGINAL-URL:https://foxandroachcharities.com
X-WR-CALDESC:Events for Fox &amp; Roach/Trident Charities
REFRESH-INTERVAL;VALUE=DURATION:PT1H
X-Robots-Tag:noindex
X-PUBLISHED-TTL:PT1H
BEGIN:VTIMEZONE
TZID:America/New_York
BEGIN:DAYLIGHT
TZOFFSETFROM:-0500
TZOFFSETTO:-0400
TZNAME:EDT
DTSTART:20210314T070000
END:DAYLIGHT
BEGIN:STANDARD
TZOFFSETFROM:-0400
TZOFFSETTO:-0500
TZNAME:EST
DTSTART:20211107T060000
END:STANDARD
BEGIN:DAYLIGHT
TZOFFSETFROM:-0500
TZOFFSETTO:-0400
TZNAME:EDT
DTSTART:20220313T070000
END:DAYLIGHT
BEGIN:STANDARD
TZOFFSETFROM:-0400
TZOFFSETTO:-0500
TZNAME:EST
DTSTART:20221106T060000
END:STANDARD
BEGIN:DAYLIGHT
TZOFFSETFROM:-0500
TZOFFSETTO:-0400
TZNAME:EDT
DTSTART:20230312T070000
END:DAYLIGHT
BEGIN:STANDARD
TZOFFSETFROM:-0400
TZOFFSETTO:-0500
TZNAME:EST
DTSTART:20231105T060000
END:STANDARD
END:VTIMEZONE
BEGIN:VEVENT
DTSTART;VALUE=DATE:20221129
DTEND;VALUE=DATE:20221130
DTSTAMP:20260425T094223
CREATED:20220314T200249Z
LAST-MODIFIED:20220314T200249Z
UID:27373-1669680000-1669766399@foxandroachcharities.com
SUMMARY:#GivingTuesday
DESCRIPTION:
URL:https://foxandroachcharities.com/calendar/givingtuesday/
ATTACH;FMTTYPE=image/png:https://foxandroachcharities.com/wp-content/uploads/2022/03/giving-tuesday.png
END:VEVENT
END:VCALENDAR