BEGIN:VCALENDAR
VERSION:2.0
PRODID:-//Fox &amp; Roach/Trident Charities - ECPv6.15.20//NONSGML v1.0//EN
CALSCALE:GREGORIAN
METHOD:PUBLISH
X-WR-CALNAME:Fox &amp; Roach/Trident Charities
X-ORIGINAL-URL:https://foxandroachcharities.com
X-WR-CALDESC:Events for Fox &amp; Roach/Trident Charities
REFRESH-INTERVAL;VALUE=DURATION:PT1H
X-Robots-Tag:noindex
X-PUBLISHED-TTL:PT1H
BEGIN:VTIMEZONE
TZID:America/New_York
BEGIN:DAYLIGHT
TZOFFSETFROM:-0500
TZOFFSETTO:-0400
TZNAME:EDT
DTSTART:20250309T070000
END:DAYLIGHT
BEGIN:STANDARD
TZOFFSETFROM:-0400
TZOFFSETTO:-0500
TZNAME:EST
DTSTART:20251102T060000
END:STANDARD
BEGIN:DAYLIGHT
TZOFFSETFROM:-0500
TZOFFSETTO:-0400
TZNAME:EDT
DTSTART:20260308T070000
END:DAYLIGHT
BEGIN:STANDARD
TZOFFSETFROM:-0400
TZOFFSETTO:-0500
TZNAME:EST
DTSTART:20261101T060000
END:STANDARD
BEGIN:DAYLIGHT
TZOFFSETFROM:-0500
TZOFFSETTO:-0400
TZNAME:EDT
DTSTART:20270314T070000
END:DAYLIGHT
BEGIN:STANDARD
TZOFFSETFROM:-0400
TZOFFSETTO:-0500
TZNAME:EST
DTSTART:20271107T060000
END:STANDARD
END:VTIMEZONE
BEGIN:VEVENT
DTSTART;VALUE=DATE:20260119
DTEND;VALUE=DATE:20260120
DTSTAMP:20260421T075125
CREATED:20220127T204834Z
LAST-MODIFIED:20260206T183527Z
UID:27227-1768780800-1768867199@foxandroachcharities.com
SUMMARY:Martin Luther King Jr. Day of Service
DESCRIPTION:“Make a career of humanity. Commit yourself to the noble struggle for equal rights. You will make a better person of yourself\, a greater nation of your country\, and a finer world to live in.” \n— Martin Luther King Jr.
URL:https://foxandroachcharities.com/calendar/martin-luther-king-jr-day-of-service/
ATTACH;FMTTYPE=image/jpeg:https://foxandroachcharities.com/wp-content/uploads/2022/01/dream.jpg
END:VEVENT
END:VCALENDAR