BEGIN:VCALENDAR
VERSION:2.0
PRODID:-//Fox &amp; Roach/Trident Charities - ECPv6.15.20//NONSGML v1.0//EN
CALSCALE:GREGORIAN
METHOD:PUBLISH
X-ORIGINAL-URL:https://foxandroachcharities.com
X-WR-CALDESC:Events for Fox &amp; Roach/Trident Charities
REFRESH-INTERVAL;VALUE=DURATION:PT1H
X-Robots-Tag:noindex
X-PUBLISHED-TTL:PT1H
BEGIN:VTIMEZONE
TZID:America/New_York
BEGIN:DAYLIGHT
TZOFFSETFROM:-0500
TZOFFSETTO:-0400
TZNAME:EDT
DTSTART:20250309T070000
END:DAYLIGHT
BEGIN:STANDARD
TZOFFSETFROM:-0400
TZOFFSETTO:-0500
TZNAME:EST
DTSTART:20251102T060000
END:STANDARD
BEGIN:DAYLIGHT
TZOFFSETFROM:-0500
TZOFFSETTO:-0400
TZNAME:EDT
DTSTART:20260308T070000
END:DAYLIGHT
BEGIN:STANDARD
TZOFFSETFROM:-0400
TZOFFSETTO:-0500
TZNAME:EST
DTSTART:20261101T060000
END:STANDARD
BEGIN:DAYLIGHT
TZOFFSETFROM:-0500
TZOFFSETTO:-0400
TZNAME:EDT
DTSTART:20270314T070000
END:DAYLIGHT
BEGIN:STANDARD
TZOFFSETFROM:-0400
TZOFFSETTO:-0500
TZNAME:EST
DTSTART:20271107T060000
END:STANDARD
END:VTIMEZONE
BEGIN:VEVENT
DTSTART;VALUE=DATE:20260206
DTEND;VALUE=DATE:20260207
DTSTAMP:20260421T043749
CREATED:20260206T185641Z
LAST-MODIFIED:20260206T185641Z
UID:30729-1770336000-1770422399@foxandroachcharities.com
SUMMARY:American Heart Association (AHA) Wear Red Day
DESCRIPTION:It’s Wear Red Day & Give Day. Celebrate the moms\, daughters\, sisters\, and friends who mean everything to you—while helping protect women from heart disease. \nDate: Friday\, February 6\, 2026. \nVisit the official GoRedForWomen website for more information.
URL:https://foxandroachcharities.com/calendar/american-heart-association-aha-wear-red-day-2/
END:VEVENT
END:VCALENDAR